BEGIN:VCALENDAR
VERSION:2.0
PRODID:-//Plexus Institute - ECPv4.5.7//NONSGML v1.0//EN
CALSCALE:GREGORIAN
METHOD:PUBLISH
X-WR-CALNAME:Plexus Institute
X-ORIGINAL-URL:http://plexusinstitute.org
X-WR-CALDESC:Events for Plexus Institute
BEGIN:VEVENT
DTSTART;TZID=UTC+0:20170630T130000
DTEND;TZID=UTC+0:20170630T140000
DTSTAMP:20170713T171959
CREATED:20170626T220348Z
LAST-MODIFIED:20170627T154644Z
UID:874-1498827600-1498831200@plexusinstitute.org
SUMMARY:PlexusCalls-Stem Cell Research in Science and Society
DESCRIPTION:PlexusCall Friday\, June 30\, 2017\n1-2 PM ET\nStem Cell Research in Science and Society\nGuests: Toni Marzotto\, Patricia Alt\, and Dan Pesut\n \nclick the link to join\, and read about Zoom below\nhttps://zoom.us/j/151359911\n \nIn their new book\, Stem Cell Research-Hope or Hype?\, authors Toni Marzotto and Patricia Alt look at human embryonic stem cell research through a multi-disciplinary lens. This extensively sourced and readable book examines the biology\, politics\, and funding of stem cell research as well as the ethical\, religious and policy debates the topic has generated. It also tells the stories of scientists and laymen who have examined and contemplated the research through prisms of their different disciplines and experiences.\n \n
URL:http://plexusinstitute.org/event/plexuscalls-stem-cell-research-in-science-and-society/
CATEGORIES:PlexusCalls
ATTACH;FMTTYPE=image/jpeg:http://plexusinstitute.org/wp-content/uploads/2017/06/collaborative-journalism-e1498515176898.jpg
END:VEVENT
BEGIN:VEVENT
DTSTART;TZID=UTC+0:20170712T140000
DTEND;TZID=UTC+0:20170712T150000
DTSTAMP:20170713T171959
CREATED:20170630T204722Z
LAST-MODIFIED:20170702T191052Z
UID:1041-1499868000-1499871600@plexusinstitute.org
SUMMARY:Catalyst Conversation
DESCRIPTION:Join an informal Pop-up conversation with the Plexus Catalyst June Holley\, who will be sharing insights on how organizations can proactively develop a culture for self-organization. We will be using Zoom for live video and audio. \n
URL:http://plexusinstitute.org/event/catalyst-conversation/
CATEGORIES:Catalyst Conversations
END:VEVENT
END:VCALENDAR